BEGIN:VCALENDAR
VERSION:2.0
PRODID:-//Squarespace Inc/Squarespace 6//v6//EN
BEGIN:VEVENT
UID:5af3261e88251b112ca814ee@squarespace.com
DTSTAMP:20180509T202138Z
DTSTART:20180510T213000Z
DTEND:20180510T223000Z
SUMMARY:Joyce special event w/ Rep. Joe Wilson (Franklin Co.)
END:VEVENT
END:VCALENDAR
