BEGIN:VCALENDAR
VERSION:2.0
PRODID:-//Squarespace Inc/Squarespace 6//v6//EN
BEGIN:VEVENT
UID:5ae214140e2e7260c26a8335@squarespace.com
DTSTAMP:20180426T182056Z
DTSTART:20180430T160000Z
DTEND:20180430T173000Z
SUMMARY:Sportsmen for Joyce Event w/ special guest Congressman Richard Huds
 on
GEO:39.827114;-77.235374
LOCATION:Redding's Gun Shop\, 279 South Franklin Street\, Gettysburg\, PA\, 
 17325\, United States
END:VEVENT
END:VCALENDAR
