BEGIN:VCALENDAR
VERSION:2.0
PRODID:-//Squarespace Inc/Squarespace 6//v6//EN
BEGIN:VEVENT
UID:5ae216dd0e2e72987e69812c@squarespace.com
DTSTAMP:20180426T210208Z
DTSTART:20180430T213000Z
DTEND:20180430T230000Z
SUMMARY:Meet\, Greet & Eat event in Chambersburg
GEO:39.927927;-77.633297
LOCATION:Hoss's\, 20 Falling Spring Road\, Chambersburg\, PA\, 17202\, Unit
 ed States
END:VEVENT
END:VCALENDAR
