BEGIN:VCALENDAR
VERSION:2.0
PRODID:-//Squarespace Inc/Squarespace 6//v6//EN
BEGIN:VEVENT
UID:5af3555f562fa7cf25071944@squarespace.com
DTSTAMP:20180509T201007Z
DTSTART:20180511T113000Z
DTEND:20180511T123000Z
SUMMARY:Coffee & Donuts w/ Dr. Joyce (Bedford)
GEO:40.017263;-78.485524
LOCATION:Landmark Restaraunt\, 647 East Pitt Street\, Bedford\, PA\, 15522\
 , United States
END:VEVENT
END:VCALENDAR
