BEGIN:VCALENDAR
VERSION:2.0
PRODID:-//Squarespace Inc/Squarespace 6//v6//EN
BEGIN:VEVENT
UID:5af3252b352f5311f124d46c@squarespace.com
DTSTAMP:20180509T164515Z
DTSTART:20180510T113000Z
DTEND:20180510T123000Z
SUMMARY:Coffee & Donuts event w/ Dr. Joyce (Adams County)
GEO:39.867368;-77.045068
LOCATION:Rosie's Restaraunt\, 370 Lincoln Way East\, New Oxford\, PA\, 1735
 0\, United States
END:VEVENT
END:VCALENDAR
