BEGIN:VCALENDAR
VERSION:2.0
PRODID:-//Squarespace Inc/Squarespace 6//v6//EN
BEGIN:VEVENT
UID:5af4d364562fa7024e0a53be@squarespace.com
DTSTAMP:20180510T232212Z
DTSTART:20180516T003000Z
DTEND:20180516T040000Z
SUMMARY:Election Night Victory Party
GEO:40.458181;-78.410218
LOCATION:Altoona Grand Hotel\, 1 Sheraton Drive\, Altoona\, PA\, 16601\, Un
 ited States
END:VEVENT
END:VCALENDAR
