BEGIN:VCALENDAR
VERSION:2.0
PRODID:-//Squarespace Inc/Squarespace 6//v6//EN
BEGIN:VEVENT
UID:5af325aa352f5311f124f1e3@squarespace.com
DTSTAMP:20180509T164706Z
DTSTART:20180510T160000Z
DTEND:20180510T170000Z
SUMMARY:Joyce "Eat & Greet" Event (Shippensburg)
GEO:40.041623;-77.536034
LOCATION:Greyhound Family Restaraunt\, 9846 Molly Pitcher Highway\, Shippen
 sburg\, PA\, 17257\, United States
END:VEVENT
END:VCALENDAR
