BEGIN:VCALENDAR
VERSION:2.0
PRODID:-//Squarespace Inc/Squarespace 6//v6//EN
BEGIN:VEVENT
UID:5ac63dd61ae6cf67769b8732@squarespace.com
DTSTAMP:20180410T154433Z
DTSTART:20180420T210000Z
DTEND:20180420T230000Z
SUMMARY:Blue-White Kickoff Event w/ Mike Gesicki
GEO:40.458181;-78.410218
LOCATION:Altoona Grand Hotel\, 1 Sheraton Drive\, Altoona\, PA 16602\, Unit
 ed States
END:VEVENT
END:VCALENDAR
